<?xml version="1.0" encoding="UTF-8"?>
<wcs:CoverageDescriptions xsi:schemaLocation="http://www.opengis.net/wcs/2.0 http://schemas.opengis.net/wcs/2.0/wcsDescribeCoverage.xsd" xmlns:wcs="http://www.opengis.net/wcs/2.0" xmlns:xsi="http://www.w3.org/2001/XMLSchema-instance" xmlns:gml="http://www.opengis.net/gml/3.2" xmlns:swe="http://www.opengis.net/swe/2.0" xmlns:ows="http://www.opengis.net/ows/2.0" xmlns:xlink="http://www.w3.org/1999/xlink" xmlns:ras="http://www.rasdaman.org" xmlns:gmlcov="http://www.opengis.net/gmlcov/1.0">
    <wcs:CoverageDescription gml:id="INSPIRE_EL">
        <gml:boundedBy>
            <gml:Envelope srsName="https://www.opengis.net/def/crs/EPSG/0/25831" axisLabels="E N" uomLabels="metre metre" srsDimension="2">
                <gml:lowerCorner>470468 4649576</gml:lowerCorner>
                <gml:upperCorner>512280 4668540</gml:upperCorner>
            </gml:Envelope>
        </gml:boundedBy>
        <wcs:CoverageId>INSPIRE_EL</wcs:CoverageId>
        <gml:coverageFunction>
            <gml:GridFunction>
                <gml:sequenceRule axisOrder="+2 +1">Linear</gml:sequenceRule>
                <gml:startPoint>-33 0</gml:startPoint>
            </gml:GridFunction>
        </gml:coverageFunction>
        <gmlcov:metadata>
            <gmlcov:Extension>
                <ras:covMetadata/>
                <el-covmd:ElevationGridCoverageMetadata xsi:schemaLocation="http://inspire.ec.europa.eu/schemas/el-covmd/4.0 http://schema.datacove.eu/ElevationGridCoverageMetadata.xsd" xmlns:el-covmd="http://inspire.ec.europa.eu/schemas/el-covmd/4.0" xmlns:lcn="http://inspire.ec.europa.eu/schemas/lcn/4.0" xmlns:base="http://inspire.ec.europa.eu/schemas/base/3.3" xmlns:base2="http://inspire.ec.europa.eu/schemas/base2/2.0" xmlns:gmd="http://www.isotc211.org/2005/gmd" xmlns:gco="http://www.isotc211.org/2005/gco" xmlns:ad="http://inspire.ec.europa.eu/schemas/ad/4.0" xmlns:gn="http://inspire.ec.europa.eu/schemas/gn/4.0">
                    <!-- -->
                    <el-covmd:beginLifespanVersion>2021-12-19T00:00:00+01:00</el-covmd:beginLifespanVersion>
                    <el-covmd:domainExtent>
                        <gmd:EX_Extent>
                            <gmd:geographicElement>
                                <gmd:EX_GeographicBoundingBox>
                                    <gmd:westBoundLongitude>
                                        <gco:Decimal>2.642464</gco:Decimal>
                                    </gmd:westBoundLongitude>
                                    <gmd:eastBoundLongitude>
                                        <gco:Decimal>3.148272</gco:Decimal>
                                    </gmd:eastBoundLongitude>
                                    <gmd:southBoundLatitude>
                                        <gco:Decimal>41.9981</gco:Decimal>
                                    </gmd:southBoundLatitude>
                                    <gmd:northBoundLatitude>
                                        <gco:Decimal>42.168439</gco:Decimal>
                                    </gmd:northBoundLatitude>
                                </gmd:EX_GeographicBoundingBox>
                            </gmd:geographicElement>
                        </gmd:EX_Extent>
                    </el-covmd:domainExtent>
                    <el-covmd:inspireId>
                        <base:Identifier>
                            <base:localId>INSPIRE_EL</base:localId>
                            <base:namespace>https://inspire-wcs.eu</base:namespace>
                        </base:Identifier>
                    </el-covmd:inspireId>
                    <el-covmd:propertyType>height</el-covmd:propertyType>
                    <el-covmd:surfaceType>DTM</el-covmd:surfaceType>
                </el-covmd:ElevationGridCoverageMetadata>
            </gmlcov:Extension>
        </gmlcov:metadata>
        <gml:domainSet>
            <gml:RectifiedGrid dimension="2" gml:id="INSPIRE_EL-grid">
                <gml:limits>
                    <gml:GridEnvelope>
                        <gml:low>-33 0</gml:low>
                        <gml:high>20872 9481</gml:high>
                    </gml:GridEnvelope>
                </gml:limits>
                <gml:axisLabels>E N</gml:axisLabels>
                <gml:origin>
                    <gml:Point gml:id="INSPIRE_EL-point" srsName="https://www.opengis.net/def/crs/EPSG/0/25831">
                        <gml:pos>470469 4668539</gml:pos>
                    </gml:Point>
                </gml:origin>
                <gml:offsetVector srsName="https://www.opengis.net/def/crs/EPSG/0/25831">2 0</gml:offsetVector>
                <gml:offsetVector srsName="https://www.opengis.net/def/crs/EPSG/0/25831">0 -2</gml:offsetVector>
            </gml:RectifiedGrid>
        </gml:domainSet>
        <gmlcov:rangeType>
            <swe:DataRecord>
                <swe:field name="Gray">
                    <swe:Quantity definition="http://www.opengis.net/def/dataType/OGC/0/float32">
                        <swe:label>Gray</swe:label>
                        <swe:nilValues>
                            <swe:NilValues>
                                <swe:nilValue reason="">-9999.0</swe:nilValue>
                            </swe:NilValues>
                        </swe:nilValues>
                        <swe:uom code="10^0"/>
                    </swe:Quantity>
                </swe:field>
            </swe:DataRecord>
        </gmlcov:rangeType>
        <wcs:ServiceParameters>
            <wcs:CoverageSubtype>RectifiedGridCoverage</wcs:CoverageSubtype>
            <wcs:nativeFormat>application/octet-stream</wcs:nativeFormat>
        </wcs:ServiceParameters>
    </wcs:CoverageDescription>
</wcs:CoverageDescriptions>
